BEGIN:VCALENDAR
VERSION:2.0
PRODID:-//Plone.org//NONSGML plone.app.event//EN
X-WR-TIMEZONE:Europe/Rome
BEGIN:VEVENT
SUMMARY:Grazie non fumo. Convention SmokeFree 
DTSTART;VALUE=DATE-TIME:20120331T080000Z
DTEND;VALUE=DATE-TIME:20120331T110000Z
DTSTAMP;VALUE=DATE-TIME:20260420T232833Z
UID:872d993649ddc021aea9c85cf2379be3@127.0.0.1:8095
CATEGORIES:Convegno
CREATED;VALUE=DATE-TIME:20120327T130724Z
LAST-MODIFIED;VALUE=DATE-TIME:20120423T112404Z
LOCATION:Bologna\, Cinema Perla\, via San Donato\, 38
URL:https://www.ausl.bologna.it/eventi/archivio/auslevent.2012-03-27.21013
 66000
END:VEVENT
END:VCALENDAR
