BEGIN:VCALENDAR
VERSION:2.0
PRODID:-//Plone.org//NONSGML plone.app.event//EN
X-WR-TIMEZONE:Europe/Rome
BEGIN:VEVENT
SUMMARY:Trekking con Datti una mossa al Parco dell'Uccellina
DTSTART;VALUE=DATE-TIME:20120414T040000Z
DTEND;VALUE=DATE-TIME:20120415T150000Z
DTSTAMP;VALUE=DATE-TIME:20260420T233019Z
UID:34cd5c6fee684fd86e5bfa1a5756e9f1@127.0.0.1:8095
CONTACT:051 3172982
CREATED;VALUE=DATE-TIME:20120327T103359Z
LAST-MODIFIED;VALUE=DATE-TIME:20120528T075933Z
LOCATION:Toscana\, Maremma
URL:https://www.ausl.bologna.it/eventi/archivio/auslevent.2012-03-27.19556
 64578
END:VEVENT
END:VCALENDAR
