BEGIN:VCALENDAR
VERSION:2.0
PRODID:-//Plone.org//NONSGML plone.app.event//EN
X-WR-TIMEZONE:Europe/Rome
BEGIN:VEVENT
SUMMARY:Grandangolo: Ictus Cardioembolico 
DTSTART;VALUE=DATE-TIME:20120414T064500Z
DTEND;VALUE=DATE-TIME:20120414T110000Z
DTSTAMP;VALUE=DATE-TIME:20260420T233045Z
UID:356e91f018a8a7b4300970233e80aeae@127.0.0.1:8095
CONTACT:Patrizia Angelotti per Accurate Solutions\, Tel. 0547 20630\, patr
 izia.angelotti@accuratesolutions.it
CREATED;VALUE=DATE-TIME:20120322T102118Z
DESCRIPTION:Il primo meeting interaziendale sulle patologie cerebro-vascol
 ari\, realizzato grazie alla collaborazione tra la Stroke Unit di Neurolog
 ia dell'Ospedale Maggiore\, l'IRCCS Istituto di Scienze Neurologiche dell'
 Azienda USL Bologna e la Neurologia del Policlinico S. Orsola-Malpighi del
 l'Azienda Ospedaliero-Universitaria di Bologna.
LAST-MODIFIED;VALUE=DATE-TIME:20120423T112403Z
LOCATION:Aula Murri\, Policlinico S.Orsola - Malpighi
URL:https://www.ausl.bologna.it/eventi/archivio/auslevent.2012-03-22.82892
 69252
END:VEVENT
END:VCALENDAR
