BEGIN:VCALENDAR
VERSION:2.0
PRODID:-//Plone.org//NONSGML plone.app.event//EN
X-WR-TIMEZONE:Europe/Rome
BEGIN:VEVENT
SUMMARY:Il grande cavallo blu - Mostra di illustrazioni originali di Mauri
 zio A.C. Quadrello
DTSTART;VALUE=DATE-TIME:20120321T170000Z
DTEND;VALUE=DATE-TIME:20120321T170000Z
DTSTAMP;VALUE=DATE-TIME:20260420T150407Z
UID:9b89f3c535a07254f78463ce509a6419@127.0.0.1:8095
CATEGORIES:mostra
CREATED;VALUE=DATE-TIME:20120320T105140Z
DESCRIPTION:Un'iniziativa del Centro Accendi Molti Fuochi inserita all'int
 erno di "Fieri di leggere"\, il programma di eventi collaterali della Fier
 a del Libro per Ragazzi.
LAST-MODIFIED;VALUE=DATE-TIME:20120423T112402Z
LOCATION:Biblioteca G. F. Minguzzi - C. Gentili\, Via S. Isaia 90 - Bologn
 a 
URL:https://www.ausl.bologna.it/eventi/archivio/auslevent.2012-03-20.45538
 72361
END:VEVENT
END:VCALENDAR
