BEGIN:VCALENDAR
VERSION:2.0
PRODID:-//Plone.org//NONSGML plone.app.event//EN
X-WR-TIMEZONE:Europe/Rome
BEGIN:VEVENT
SUMMARY:Festa della prevenzione - ANNULLATO
DTSTART;VALUE=DATE-TIME:20120530T070000Z
DTEND;VALUE=DATE-TIME:20120601T160000Z
DTSTAMP;VALUE=DATE-TIME:20260420T093349Z
UID:87d462bb6380be4e9ecb0f4b3caa3817@127.0.0.1:8095
CATEGORIES:Festa
CREATED;VALUE=DATE-TIME:20120315T154529Z
DESCRIPTION:Regione Emilia-Romagna e Università di Bologna organizzano tr
 e giornate di approfondimento sulle sostanze e i comportamenti a rischio d
 i dipendenza patologica
LAST-MODIFIED;VALUE=DATE-TIME:20120530T095055Z
LOCATION:Bologna\, Facoltà di Scienze della Formazione dell’Università
  di Bologna\, via Filippo Re\, 6
URL:https://www.ausl.bologna.it/eventi/archivio/auslevent.2012-03-15.17812
 01882
END:VEVENT
END:VCALENDAR
