BEGIN:VCALENDAR
VERSION:2.0
PRODID:-//Plone.org//NONSGML plone.app.event//EN
X-WR-TIMEZONE:Europe/Rome
BEGIN:VEVENT
SUMMARY:Building a network for learning
DTSTART;VALUE=DATE-TIME:20120327T080000Z
DTEND;VALUE=DATE-TIME:20120328T100000Z
DTSTAMP;VALUE=DATE-TIME:20260420T143305Z
UID:e939f2f137dbb47b060cea2a775d0f7e@127.0.0.1:8095
CATEGORIES:Tavola rotonda
CONTACT:Momeda Eventi s.r.l.\, 051 5876729\, info@momedaeventi.com
CREATED;VALUE=DATE-TIME:20120314T140005Z
DESCRIPTION:Una tavola rotonda coi rappresentanti ed esperti dell’area g
 estionale ostetrica\, qualità e risk management di ospedali ed aziende sa
 nitarie europee.\n\n\n
LAST-MODIFIED;VALUE=DATE-TIME:20120423T112400Z
LOCATION:Santa Maria della Vita Via Clavature 10\, Bologna
URL:https://www.ausl.bologna.it/eventi/archivio/auslevent.2012-03-14.75406
 43475
END:VEVENT
END:VCALENDAR
