BEGIN:VCALENDAR
VERSION:2.0
PRODID:-//Plone.org//NONSGML plone.app.event//EN
X-WR-TIMEZONE:Europe/Rome
BEGIN:VEVENT
SUMMARY:Inaugurazione di Vivere al buio
DTSTART;VALUE=DATE-TIME:20120329T170000Z
DTEND;VALUE=DATE-TIME:20120329T190000Z
DTSTAMP;VALUE=DATE-TIME:20260420T233002Z
UID:ec20f046c7c8746c8540c7a0a841132f@127.0.0.1:8095
CREATED;VALUE=DATE-TIME:20120313T111303Z
DESCRIPTION:Una mostra-omaggio d’arte alla memoria dello scrittore Giuse
 ppe D’Agata\, tra opere di Andreino Cocco e documenti audiovisivi d'epoc
 a.
LAST-MODIFIED;VALUE=DATE-TIME:20120423T112356Z
LOCATION:Sala Refettorio dell’ex convento di San Mattia\, Istituto Stori
 co Parri\, via Sant'Isaia 20 - Bologna 
URL:https://www.ausl.bologna.it/eventi/archivio/auslevent.2012-03-13.18769
 03534
END:VEVENT
END:VCALENDAR
