BEGIN:VCALENDAR
VERSION:2.0
PRODID:-//Plone.org//NONSGML plone.app.event//EN
X-WR-TIMEZONE:Europe/Rome
BEGIN:VEVENT
SUMMARY:Il piede diabetico. 1° Meeting di studio AISLeC
DTSTART;VALUE=DATE-TIME:20120505T063000Z
DTEND;VALUE=DATE-TIME:20120505T150000Z
DTSTAMP;VALUE=DATE-TIME:20260420T143304Z
UID:541c5d8a44d44a597c8c1bde1f71b70c@127.0.0.1:8095
CATEGORIES:congresso
CONTACT:Segreteria organizzativa CEC\, 06 60210638 - 06 65192185\, info@ce
 congressi.com
CREATED;VALUE=DATE-TIME:20120229T104920Z
DESCRIPTION:A San Marino il congresso organizzato dall'AISLeC - Associazio
 ne Italiana per lo studio delle lesioni cutanee\, sulla prevenzione\, la v
 alutazione e il trattamento del piede diabetico
LAST-MODIFIED;VALUE=DATE-TIME:20120423T112138Z
LOCATION:San Marino (RSM)\, Centro Congressi Kursaal\, Viale J. F. Kennedy
  17
URL:https://www.ausl.bologna.it/eventi/archivio/auslevent.2012-02-29.99829
 33782
END:VEVENT
END:VCALENDAR
