BEGIN:VCALENDAR
VERSION:2.0
PRODID:-//Plone.org//NONSGML plone.app.event//EN
X-WR-TIMEZONE:Europe/Rome
BEGIN:VEVENT
SUMMARY:Giornata Internazionale di Medicina Antroposofica
DTSTART;VALUE=DATE-TIME:20120303T080000Z
DTEND;VALUE=DATE-TIME:20120303T153000Z
DTSTAMP;VALUE=DATE-TIME:20260420T232425Z
UID:d6a53b1fa835a43d1ca61195069e7c20@127.0.0.1:8095
CONTACT:Associazione per la medicina centrata sulla Persona ONLUS\, info@m
 edicinacentratasullapersona.org
CREATED;VALUE=DATE-TIME:20120229T104210Z
DESCRIPTION:In memoria di Giuseppe Leonelli\, una giornata di confronto e 
 dibattito sulle esperienze di medicina antroposofica in Emilia-Romagna con
  la partecipazione di Peter Zimmermann\, presidente della Federazione Inte
 rnazionale delle Società di Medicina Antroposofica.
LAST-MODIFIED;VALUE=DATE-TIME:20120423T112137Z
LOCATION:Aula Magna dell’Accademia di Belle Arti di Bologna via Belle Ar
 ti 54\, Bologna
URL:https://www.ausl.bologna.it/eventi/archivio/auslevent.2012-02-29.59989
 61845
END:VEVENT
END:VCALENDAR
