BEGIN:VCALENDAR
VERSION:2.0
PRODID:-//Plone.org//NONSGML plone.app.event//EN
X-WR-TIMEZONE:Europe/Rome
BEGIN:VEVENT
SUMMARY:XVI Congresso nazionale della Federazione Ipasvi
DTSTART;VALUE=DATE-TIME:20120322T090000Z
DTEND;VALUE=DATE-TIME:20120324T113000Z
DTSTAMP;VALUE=DATE-TIME:20260420T143306Z
UID:ce244dffc19ce09b65e054ebde34d9bc@127.0.0.1:8095
CATEGORIES:congresso
CREATED;VALUE=DATE-TIME:20120224T110700Z
DESCRIPTION:Il congresso per i professionisti in zona Fiera dal 22 al 24 m
 arzo prossimi\, e lo stand Ipasvi per la promozione della salute rivolto a
 i cittadini in Piazza Maggiore\, dal 21 al 23 marzo.
LAST-MODIFIED;VALUE=DATE-TIME:20120423T112126Z
LOCATION:Palazzo della Cultura e dei Congressi\, Piazza della Costituzione
  4
URL:https://www.ausl.bologna.it/eventi/archivio/auslevent.2012-02-24.82510
 99480
END:VEVENT
END:VCALENDAR
