BEGIN:VCALENDAR
VERSION:2.0
PRODID:-//Plone.org//NONSGML plone.app.event//EN
X-WR-TIMEZONE:Europe/Rome
BEGIN:VEVENT
SUMMARY:1° Congresso Regionale “Federdolore” Emilia-Romagna
DTSTART;VALUE=DATE-TIME:20120224T080000Z
DTEND;VALUE=DATE-TIME:20120225T160000Z
DTSTAMP;VALUE=DATE-TIME:20260420T233019Z
UID:afce1cfe2e8e38c18d389f2c7e151649@127.0.0.1:8095
CATEGORIES:Convegno
CONTACT:Runtimes- Scientific Research Training and Communication\, 059 359
 254\, organizzazione@runtimes.it
CREATED;VALUE=DATE-TIME:20120224T153005Z
LAST-MODIFIED;VALUE=DATE-TIME:20120423T112129Z
LOCATION:Agriturismo LA LUPA\, Via Cassola di sopra 22 - Loc. Piumazzo - 4
 1010 Castelfranco Emilia (Modena)
URL:https://www.ausl.bologna.it/eventi/archivio/auslevent.2012-02-24.63943
 39608
END:VEVENT
END:VCALENDAR
