BEGIN:VCALENDAR
VERSION:2.0
PRODID:-//Plone.org//NONSGML plone.app.event//EN
X-WR-TIMEZONE:Europe/Rome
BEGIN:VEVENT
SUMMARY:AGIAMO CONTRO IL DIABETE. ORA.
DTSTART;VALUE=DATE-TIME:20111126T100000Z
DTEND;VALUE=DATE-TIME:20111126T113000Z
DTSTAMP;VALUE=DATE-TIME:20260420T144755Z
UID:2bf9f105a84a039bf471219a566321b5@127.0.0.1:8095
CATEGORIES:Tavola rotonda
CREATED;VALUE=DATE-TIME:20111114T112923Z
DESCRIPTION:Tavola rotonda nell'ambito delle Manifestazioni per la Giornat
 a Mondiale del diabete.
LAST-MODIFIED;VALUE=DATE-TIME:20120110T090631Z
LOCATION:Altedo\, Auditorium via Minghetti 9
URL:https://www.ausl.bologna.it/eventi/archivio/auslevent.2011-11-14.37899
 11999
END:VEVENT
END:VCALENDAR
