BEGIN:VCALENDAR
VERSION:2.0
PRODID:-//Plone.org//NONSGML plone.app.event//EN
X-WR-TIMEZONE:Europe/Rome
BEGIN:VEVENT
SUMMARY:IL TECNICO DELLA PREVENZIONE: UNA PROFESSIONE IN EVOLUZIONE
DTSTART;VALUE=DATE-TIME:20111007T063000Z
DTEND;VALUE=DATE-TIME:20111007T143000Z
DTSTAMP;VALUE=DATE-TIME:20260420T215125Z
UID:e06f6c418acfdb054a9ee62888033b13@127.0.0.1:8095
CATEGORIES:Aggiornamento
CREATED;VALUE=DATE-TIME:20111104T135426Z
LAST-MODIFIED;VALUE=DATE-TIME:20120110T084102Z
LOCATION:Bologna\, Ospedale Bellaria
URL:https://www.ausl.bologna.it/eventi/archivio/auslevent.2011-11-04.33305
 74720
END:VEVENT
END:VCALENDAR
