BEGIN:VCALENDAR
VERSION:2.0
PRODID:-//Plone.org//NONSGML plone.app.event//EN
X-WR-TIMEZONE:Europe/Rome
BEGIN:VEVENT
SUMMARY:ATTUALITA' IN ONCOLOGIA: DAL LABORATORIO ALLA CURA DEL PAZIENTE
DTSTART;VALUE=DATE-TIME:20111124T130000Z
DTEND;VALUE=DATE-TIME:20111126T113000Z
DTSTAMP;VALUE=DATE-TIME:20260420T143351Z
UID:bb727c3d8aefb52a2676f127fb6c3272@127.0.0.1:8095
CATEGORIES:congresso
CONTACT:info@organizzazioneagora.it
CREATED;VALUE=DATE-TIME:20111103T115046Z
DESCRIPTION:XXXVII  CONGRESSO NAZIONALE SIT
LAST-MODIFIED;VALUE=DATE-TIME:20120110T084049Z
LOCATION:Bologna\, Hotel Savoia Regency 
URL:https://www.ausl.bologna.it/eventi/archivio/auslevent.2011-11-03.17186
 89210
END:VEVENT
END:VCALENDAR
