BEGIN:VCALENDAR
VERSION:2.0
PRODID:-//Plone.org//NONSGML plone.app.event//EN
X-WR-TIMEZONE:Europe/Rome
BEGIN:VEVENT
SUMMARY:Dal Medico Giuseppe Veratti e dalla Società per la Protezione dei
  Fanciulli Abbandonati e Maltrattati della Bologna ottocentesca alla realt
 à attuale di aiuto e prevenzione
DTSTART;VALUE=DATE-TIME:20111105T090000Z
DTEND;VALUE=DATE-TIME:20111105T110000Z
DTSTAMP;VALUE=DATE-TIME:20260420T214955Z
UID:737d15813457f71a9058466a4168f189@127.0.0.1:8095
CATEGORIES:Incontro
CONTACT:info@medchir.bo.it
CREATED;VALUE=DATE-TIME:20111102T101154Z
DESCRIPTION:Adunanza della Società Medica Chirurgica
LAST-MODIFIED;VALUE=DATE-TIME:20120110T084037Z
LOCATION:Bologna\, Palazzo dell'Archiginnasio
URL:https://www.ausl.bologna.it/eventi/archivio/auslevent.2011-11-02.53900
 12846
END:VEVENT
END:VCALENDAR
