BEGIN:VCALENDAR
VERSION:2.0
PRODID:-//Plone.org//NONSGML plone.app.event//EN
X-WR-TIMEZONE:Europe/Rome
BEGIN:VEVENT
SUMMARY:Evoluzione e identità del Sistema Trasfusionale.Un binomio sosten
 ibile
DTSTART;VALUE=DATE-TIME:20111201T083000Z
DTEND;VALUE=DATE-TIME:20111202T160000Z
DTSTAMP;VALUE=DATE-TIME:20260420T214912Z
UID:05e959980285c0380ef005d6f7c0c598@127.0.0.1:8095
CATEGORIES:Convegno
CONTACT:Giovanna Piraccini\, giovanna.piraccini@ausl-cesena.emr.it
CREATED;VALUE=DATE-TIME:20111102T105738Z
LAST-MODIFIED;VALUE=DATE-TIME:20120110T084043Z
LOCATION:Cesena\, Centro Addestramento Polizia di Stato
URL:https://www.ausl.bologna.it/eventi/archivio/auslevent.2011-11-02.21934
 20536
END:VEVENT
END:VCALENDAR
