BEGIN:VCALENDAR
VERSION:2.0
PRODID:-//Plone.org//NONSGML plone.app.event//EN
X-WR-TIMEZONE:Europe/Rome
BEGIN:VEVENT
SUMMARY:"Carlotta osserva tutto”  Bambini tra genitorialità e violenza 
 domestica. Riflessioni sui 10 anni di attività del Servizio Minori della 
 Casa delle donne.
DTSTART;VALUE=DATE-TIME:20111110T074500Z
DTEND;VALUE=DATE-TIME:20111110T120000Z
DTSTAMP;VALUE=DATE-TIME:20260420T215026Z
UID:55e14fa69193b064cd50a9783c57b898@127.0.0.1:8095
CATEGORIES:Convegno
CONTACT:info.casadonne@women.it
CREATED;VALUE=DATE-TIME:20111027T122415Z
DESCRIPTION:Evento inaugurale della VI edizione del Festival La Violenza I
 llustrata.
LAST-MODIFIED;VALUE=DATE-TIME:20120110T084033Z
LOCATION:Bologna\, Sala Conferenze Quartiere Santo Stefano
URL:https://www.ausl.bologna.it/eventi/archivio/auslevent.2011-10-27.98407
 75998
END:VEVENT
END:VCALENDAR
