BEGIN:VCALENDAR
VERSION:2.0
PRODID:-//Plone.org//NONSGML plone.app.event//EN
X-WR-TIMEZONE:Europe/Rome
BEGIN:VEVENT
SUMMARY:   Strategie efficaci per il contrasto ai maltrattamenti e allo st
 alking.  Aspetti giuridici e criminologici
DTSTART;VALUE=DATE-TIME:20111125T090000Z
DTEND;VALUE=DATE-TIME:20111125T110000Z
DTSTAMP;VALUE=DATE-TIME:20260420T164452Z
UID:25d67d4434bb5d09360aa7f689c054f3@127.0.0.1:8095
CATEGORIES:Incontro con l'autore
CONTACT:dina.donati@ausl.bologna.it
CREATED;VALUE=DATE-TIME:20111027T120840Z
DESCRIPTION:Incontro con gli autori e presentazione del libro. A cura dell
 ’AUSL di Bologna e della Casa delle donne
LAST-MODIFIED;VALUE=DATE-TIME:20120110T084030Z
LOCATION:Bologna\, Aula Colonne Azienda USL di Bologna
URL:https://www.ausl.bologna.it/eventi/archivio/auslevent.2011-10-27.06230
 55155
END:VEVENT
END:VCALENDAR
