BEGIN:VCALENDAR
VERSION:2.0
PRODID:-//Plone.org//NONSGML plone.app.event//EN
X-WR-TIMEZONE:Europe/Rome
BEGIN:VEVENT
SUMMARY:Competenze culturali per una chiara comunicazione
DTSTART;VALUE=DATE-TIME:20111111T083000Z
DTEND;VALUE=DATE-TIME:20111111T160000Z
DTSTAMP;VALUE=DATE-TIME:20260420T214928Z
UID:3918a697120f55c17cf40a4ad4a04a4d@127.0.0.1:8095
CATEGORIES:Convegno
CONTACT:ercongressi@triumphgroup.it
CREATED;VALUE=DATE-TIME:20111026T105526Z
DESCRIPTION:La comunicazione in medicina. Il malato oncologico: dalla diag
 nosi alle cure palliative
LAST-MODIFIED;VALUE=DATE-TIME:20120110T084026Z
LOCATION:Bentivoglio\, Castello
URL:https://www.ausl.bologna.it/eventi/archivio/auslevent.2011-10-26.15001
 93124
END:VEVENT
END:VCALENDAR
