BEGIN:VCALENDAR
VERSION:2.0
PRODID:-//Plone.org//NONSGML plone.app.event//EN
X-WR-TIMEZONE:Europe/Rome
BEGIN:VEVENT
SUMMARY:IL BAMBINO L’ADOLESCENTE E IL WEB
DTSTART;VALUE=DATE-TIME:20111119T080000Z
DTEND;VALUE=DATE-TIME:20111119T120000Z
DTSTAMP;VALUE=DATE-TIME:20260420T215058Z
UID:9bdedc16892dc71c4b61afdd4a6ece35@127.0.0.1:8095
CATEGORIES:Convegno
CONTACT:momedaeventi@momedaeventi.com
CREATED;VALUE=DATE-TIME:20111026T103953Z
DESCRIPTION:Internet: siamo tutti coinvolti\, confrontiamoci con gli esper
 ti
LAST-MODIFIED;VALUE=DATE-TIME:20120110T084023Z
LOCATION:Bologna\, Oratorio S. Filippo Neri
URL:https://www.ausl.bologna.it/eventi/archivio/auslevent.2011-10-26.05440
 29428
END:VEVENT
END:VCALENDAR
