BEGIN:VCALENDAR
VERSION:2.0
PRODID:-//Plone.org//NONSGML plone.app.event//EN
X-WR-TIMEZONE:Europe/Rome
BEGIN:VEVENT
SUMMARY:Cronisti della mente
DTSTART;VALUE=DATE-TIME:20111107T090000Z
DTEND;VALUE=DATE-TIME:20111107T140000Z
DTSTAMP;VALUE=DATE-TIME:20260420T215058Z
UID:cd381868f90215137a4859ce9724f102@127.0.0.1:8095
CATEGORIES:Convegno
CREATED;VALUE=DATE-TIME:20111024T102252Z
LAST-MODIFIED;VALUE=DATE-TIME:20120110T084014Z
LOCATION:Bologna\, Salone Area Roncati
URL:https://www.ausl.bologna.it/eventi/archivio/auslevent.2011-10-24.83456
 90369
END:VEVENT
END:VCALENDAR
