BEGIN:VCALENDAR
VERSION:2.0
PRODID:-//Plone.org//NONSGML plone.app.event//EN
X-WR-TIMEZONE:Europe/Rome
BEGIN:VEVENT
SUMMARY:Le parole sono semi. Qualcosa è cambiato
DTSTART;VALUE=DATE-TIME:20111024T063000Z
DTEND;VALUE=DATE-TIME:20111024T103000Z
DTSTAMP;VALUE=DATE-TIME:20260420T214912Z
UID:8ff425791795bd585aa54dcb82bc2104@127.0.0.1:8095
CATEGORIES:Convegno
CREATED;VALUE=DATE-TIME:20111021T101554Z
DESCRIPTION:Convegno nell'ambito della manifestazione "Restituzioni - La s
 alute mentale incontra la città"
LAST-MODIFIED;VALUE=DATE-TIME:20120110T084008Z
LOCATION:Bologna\, ArciBenassi
URL:https://www.ausl.bologna.it/eventi/archivio/auslevent.2011-10-21.95729
 92111
END:VEVENT
END:VCALENDAR
