BEGIN:VCALENDAR
VERSION:2.0
PRODID:-//Plone.org//NONSGML plone.app.event//EN
X-WR-TIMEZONE:Europe/Rome
BEGIN:VEVENT
SUMMARY:IL PERCORSO ASSISTENZIALE DELLA PERSONA AFFETTA DA PARKINSONISMO
DTSTART;VALUE=DATE-TIME:20111125T073000Z
DTEND;VALUE=DATE-TIME:20111125T160000Z
DTSTAMP;VALUE=DATE-TIME:20260420T215135Z
UID:66566815985d4165d0ae9241b5e03ae6@127.0.0.1:8095
CATEGORIES:Convegno
CONTACT:info@lt3.it
CREATED;VALUE=DATE-TIME:20111021T084942Z
DESCRIPTION:Come integrare le risorse disponibili e quale modello organizz
 ativo è più idoneo a garantire risposte adeguate
LAST-MODIFIED;VALUE=DATE-TIME:20120110T083955Z
LOCATION:Bologna\, Hotel De La Gare
URL:https://www.ausl.bologna.it/eventi/archivio/auslevent.2011-10-21.67915
 36380
END:VEVENT
END:VCALENDAR
