BEGIN:VCALENDAR
VERSION:2.0
PRODID:-//Plone.org//NONSGML plone.app.event//EN
X-WR-TIMEZONE:Europe/Rome
BEGIN:VEVENT
SUMMARY:Presa in carico e riabilitazione psichiatrica: modelli a confronto
DTSTART;VALUE=DATE-TIME:20111027T063000Z
DTEND;VALUE=DATE-TIME:20111027T140000Z
DTSTAMP;VALUE=DATE-TIME:20260420T214913Z
UID:36a94547f99bcd674fd593499b2baf5b@127.0.0.1:8095
CATEGORIES:Convegno
CONTACT:Erica Pirazzini\, 051 658 4238\, erica.pirazzini@ausl.bologna.it
CREATED;VALUE=DATE-TIME:20111021T103051Z
DESCRIPTION:Convegno nell'ambito della manifestazione "Restituzioni - la s
 alute mentale incontra la città"
LAST-MODIFIED;VALUE=DATE-TIME:20120110T084009Z
LOCATION:Bologna\, Teatro Montanari
URL:https://www.ausl.bologna.it/eventi/archivio/auslevent.2011-10-21.47533
 56549
END:VEVENT
END:VCALENDAR
