BEGIN:VCALENDAR
VERSION:2.0
PRODID:-//Plone.org//NONSGML plone.app.event//EN
X-WR-TIMEZONE:Europe/Rome
BEGIN:VEVENT
SUMMARY:Restituzioni  - A mente fresca
DTSTART;VALUE=DATE-TIME:20111023T133000Z
DTEND;VALUE=DATE-TIME:20111023T160000Z
DTSTAMP;VALUE=DATE-TIME:20260420T093429Z
UID:b1188e35292b03fac558b33628b6fd13@127.0.0.1:8095
CATEGORIES:Festa
CREATED;VALUE=DATE-TIME:20111021T100627Z
DESCRIPTION:La salute mentale incontra la città - Festa/Spettacolo
LAST-MODIFIED;VALUE=DATE-TIME:20120110T084006Z
LOCATION:Bologna\, Teatro DOM
URL:https://www.ausl.bologna.it/eventi/archivio/auslevent.2011-10-21.43132
 85358
END:VEVENT
END:VCALENDAR
