BEGIN:VCALENDAR
VERSION:2.0
PRODID:-//Plone.org//NONSGML plone.app.event//EN
X-WR-TIMEZONE:Europe/Rome
BEGIN:VEVENT
SUMMARY:Mettiti in gioco two - Torneo sportivo
DTSTART;VALUE=DATE-TIME:20111029T063000Z
DTEND;VALUE=DATE-TIME:20111029T113000Z
DTSTAMP;VALUE=DATE-TIME:20260420T093429Z
UID:fcb969eb9119437793b70f3bb88c0c2f@127.0.0.1:8095
CATEGORIES:Festa
CREATED;VALUE=DATE-TIME:20111021T103857Z
DESCRIPTION:Evento nell'ambito di "Restituzioni - la salute mentale incont
 ra la città"
LAST-MODIFIED;VALUE=DATE-TIME:20120110T084011Z
LOCATION:Casalecchio di Reno\, Centro sportivo Allende
URL:https://www.ausl.bologna.it/eventi/archivio/auslevent.2011-10-21.25656
 78504
END:VEVENT
END:VCALENDAR
