BEGIN:VCALENDAR
VERSION:2.0
PRODID:-//Plone.org//NONSGML plone.app.event//EN
X-WR-TIMEZONE:Europe/Rome
BEGIN:VEVENT
SUMMARY:Buona pratica clinica e ricerca scientifica nell’urgenza-emergen
 za
DTSTART;VALUE=DATE-TIME:20111102T071500Z
DTEND;VALUE=DATE-TIME:20111104T123000Z
DTSTAMP;VALUE=DATE-TIME:20260420T215125Z
UID:5122ced2f0f4b3a92d167d8a4e3d7944@127.0.0.1:8095
CATEGORIES:Convegno
CONTACT:segreteria@acemc.it
CREATED;VALUE=DATE-TIME:20111018T082100Z
DESCRIPTION:Congresso Nazionale Interdisciplinare AcEMC
LAST-MODIFIED;VALUE=DATE-TIME:20120110T083053Z
URL:https://www.ausl.bologna.it/eventi/archivio/auslevent.2011-10-18.71600
 89665
END:VEVENT
END:VCALENDAR
