BEGIN:VCALENDAR
VERSION:2.0
PRODID:-//Plone.org//NONSGML plone.app.event//EN
X-WR-TIMEZONE:Europe/Rome
BEGIN:VEVENT
SUMMARY:Trekking con Datti una mossa
DTSTART;VALUE=DATE-TIME:20111105T070000Z
DTEND;VALUE=DATE-TIME:20111106T200000Z
DTSTAMP;VALUE=DATE-TIME:20260420T215058Z
UID:07c6c1f3097c97ac082790f6530b6930@127.0.0.1:8095
CATEGORIES:Camminata e corsa campestre
CONTACT:051 6478495
CREATED;VALUE=DATE-TIME:20111018T114531Z
DESCRIPTION:Godiamoci i colori dell'autunno a Bagno di Romagna
LAST-MODIFIED;VALUE=DATE-TIME:20120110T083054Z
LOCATION:Bagno di Romagna
URL:https://www.ausl.bologna.it/eventi/archivio/auslevent.2011-10-18.60167
 78718
END:VEVENT
END:VCALENDAR
