BEGIN:VCALENDAR
VERSION:2.0
PRODID:-//Plone.org//NONSGML plone.app.event//EN
X-WR-TIMEZONE:Europe/Rome
BEGIN:VEVENT
SUMMARY:Trekking con Datti una mossa
DTSTART;VALUE=DATE-TIME:20111023T053000Z
DTEND;VALUE=DATE-TIME:20111023T163000Z
DTSTAMP;VALUE=DATE-TIME:20260420T214928Z
UID:68f8f6e426af038268e51c5b075ecfa9@127.0.0.1:8095
CATEGORIES:Camminata e corsa campestre
CONTACT:051 6478495
CREATED;VALUE=DATE-TIME:20111018T105738Z
DESCRIPTION:Godiamoci i colori dell’autunno al Monte Cimone
LAST-MODIFIED;VALUE=DATE-TIME:20120110T083054Z
URL:https://www.ausl.bologna.it/eventi/archivio/auslevent.2011-10-18.01029
 97457
END:VEVENT
END:VCALENDAR
