BEGIN:VCALENDAR
VERSION:2.0
PRODID:-//Plone.org//NONSGML plone.app.event//EN
X-WR-TIMEZONE:Europe/Rome
BEGIN:VEVENT
SUMMARY:Principi e procedure di accreditamento per gli Hospice
DTSTART;VALUE=DATE-TIME:20111017T070000Z
DTEND;VALUE=DATE-TIME:20111019T110000Z
DTSTAMP;VALUE=DATE-TIME:20260420T215058Z
UID:954e3d7589078da829dead46b27a0104@127.0.0.1:8095
CATEGORIES:seminario
CONTACT:segreteria@asmepa.org
CREATED;VALUE=DATE-TIME:20111014T120114Z
DESCRIPTION:Seminario
LAST-MODIFIED;VALUE=DATE-TIME:20120110T083048Z
LOCATION:Bentivoglio
URL:https://www.ausl.bologna.it/eventi/archivio/auslevent.2011-10-14.50542
 46443
END:VEVENT
END:VCALENDAR
