BEGIN:VCALENDAR
VERSION:2.0
PRODID:-//Plone.org//NONSGML plone.app.event//EN
X-WR-TIMEZONE:Europe/Rome
BEGIN:VEVENT
SUMMARY:Metodi di Ricerca per la Medicina Centrata sulla Persona
DTSTART;VALUE=DATE-TIME:20111105T080000Z
DTEND;VALUE=DATE-TIME:20111105T100000Z
DTSTAMP;VALUE=DATE-TIME:20260420T214955Z
UID:d2ad5287f22dedac208f82a2435bc90b@127.0.0.1:8095
CONTACT:info@medicinacentratasullapersona.org
CREATED;VALUE=DATE-TIME:20111011T101055Z
DESCRIPTION:Lezione Magistrale del Prof. Harald Walach
LAST-MODIFIED;VALUE=DATE-TIME:20120110T083046Z
LOCATION:Bologna\, Aula Magna\, Istituto di Anatomia Umana Normale
URL:https://www.ausl.bologna.it/eventi/archivio/auslevent.2011-10-11.22836
 46103
END:VEVENT
END:VCALENDAR
