BEGIN:VCALENDAR
VERSION:2.0
PRODID:-//Plone.org//NONSGML plone.app.event//EN
X-WR-TIMEZONE:Europe/Rome
BEGIN:VEVENT
SUMMARY:La scelta della professione medica: motivazioni di ieri e di oggi
DTSTART;VALUE=DATE-TIME:20111015T080000Z
DTEND;VALUE=DATE-TIME:20111015T100000Z
DTSTAMP;VALUE=DATE-TIME:20260420T215751Z
UID:28788446f8c3052b858ebd44f33b714a@127.0.0.1:8095
CONTACT:Società Medica Chirurgica di Bologna\, info@medchir.bo.it
CREATED;VALUE=DATE-TIME:20111010T080733Z
DESCRIPTION:Giornata di cultura sanitaria
LAST-MODIFIED;VALUE=DATE-TIME:20120110T083041Z
LOCATION:Bologna\, Palazzo dell'Archiginnasio
URL:https://www.ausl.bologna.it/eventi/archivio/auslevent.2011-10-10.89141
 72250
END:VEVENT
END:VCALENDAR
