BEGIN:VCALENDAR
VERSION:2.0
PRODID:-//Plone.org//NONSGML plone.app.event//EN
X-WR-TIMEZONE:Europe/Rome
BEGIN:VEVENT
SUMMARY:CORSO DI FORMAZIONE PER SPECIALISTI AMBULATORIALI CONVENZIONATI  D
 ELL’AZIENDA USL DI BOLOGNA
DTSTART;VALUE=DATE-TIME:20111017T063000Z
DTEND;VALUE=DATE-TIME:20111018T160000Z
DTSTAMP;VALUE=DATE-TIME:20260420T215026Z
UID:b47bcb478d346432a9f37c390109f4ce@127.0.0.1:8095
CONTACT:rita.neri@ausl.bologna.it
CREATED;VALUE=DATE-TIME:20111010T082222Z
LAST-MODIFIED;VALUE=DATE-TIME:20120110T083044Z
LOCATION:Bologna\, Hotel Savoia Regency
URL:https://www.ausl.bologna.it/eventi/archivio/auslevent.2011-10-10.63150
 38514
END:VEVENT
END:VCALENDAR
