BEGIN:VCALENDAR
VERSION:2.0
PRODID:-//Plone.org//NONSGML plone.app.event//EN
X-WR-TIMEZONE:Europe/Rome
BEGIN:VEVENT
SUMMARY:CORSO DI FORMAZIONE PER SPECIALISTI AMBULATORIALI CONVENZIONATI  D
 ELL’AZIENDA USL DI BOLOGNA
DTSTART;VALUE=DATE-TIME:20111114T073000Z
DTEND;VALUE=DATE-TIME:20111115T170000Z
DTSTAMP;VALUE=DATE-TIME:20260420T214928Z
UID:c9e54f0bb92dae956e672f25945ee562@127.0.0.1:8095
CONTACT:rita.neri@ausl.bologna.it
CREATED;VALUE=DATE-TIME:20111010T082457Z
LAST-MODIFIED;VALUE=DATE-TIME:20120110T083045Z
LOCATION:Bologna\, Hotel Savoia Regency
URL:https://www.ausl.bologna.it/eventi/archivio/auslevent.2011-10-10.01310
 39625
END:VEVENT
END:VCALENDAR
