BEGIN:VCALENDAR
VERSION:2.0
PRODID:-//Plone.org//NONSGML plone.app.event//EN
X-WR-TIMEZONE:Europe/Rome
BEGIN:VEVENT
SUMMARY:COME MIGLIORARE QUALITA’ E RILEVANZA DELLA RICERCA CLINICA
DTSTART;VALUE=DATE-TIME:20111114T140000Z
DTEND;VALUE=DATE-TIME:20111115T160000Z
DTSTAMP;VALUE=DATE-TIME:20260420T214955Z
UID:99352000dfe30f1631d505e27e756aef@127.0.0.1:8095
CATEGORIES:Convegno
CONTACT:Istituto Superiore di Sanità\, eva.appelgren@iss.it
CREATED;VALUE=DATE-TIME:20111007T080028Z
DESCRIPTION:XVI Riunione Annuale  del Network Cochrane Italiano
LAST-MODIFIED;VALUE=DATE-TIME:20120110T083039Z
LOCATION:Roma\, Istituto Superiore di Sanità
URL:https://www.ausl.bologna.it/eventi/archivio/auslevent.2011-10-07.09060
 39289
END:VEVENT
END:VCALENDAR
