BEGIN:VCALENDAR
VERSION:2.0
PRODID:-//Plone.org//NONSGML plone.app.event//EN
X-WR-TIMEZONE:Europe/Rome
BEGIN:VEVENT
SUMMARY:Ascolto delle donne vittime di violenza
DTSTART;VALUE=DATE-TIME:20111014T063000Z
DTEND;VALUE=DATE-TIME:20111014T150000Z
DTSTAMP;VALUE=DATE-TIME:20260420T214955Z
UID:30210177eb075b958663d287b9e9c011@127.0.0.1:8095
CATEGORIES:Aggiornamento
CONTACT:Clede Maria Garavini\, cledemaria.garavini@ausl.bologna.it
CREATED;VALUE=DATE-TIME:20111003T080315Z
DESCRIPTION:Laboratorio di Formazione
LAST-MODIFIED;VALUE=DATE-TIME:20120110T083033Z
LOCATION:Vergato\, Aula Grande Comunità Montana
URL:https://www.ausl.bologna.it/eventi/archivio/auslevent.2011-10-03.64296
 66163
END:VEVENT
END:VCALENDAR
