BEGIN:VCALENDAR
VERSION:2.0
PRODID:-//Plone.org//NONSGML plone.app.event//EN
X-WR-TIMEZONE:Europe/Rome
BEGIN:VEVENT
SUMMARY:Ascolto delle donne vittime di violenza
DTSTART;VALUE=DATE-TIME:20111020T063000Z
DTEND;VALUE=DATE-TIME:20111020T150000Z
DTSTAMP;VALUE=DATE-TIME:20260420T214928Z
UID:4c4f78876316ebce83b08777ee47f7f7@127.0.0.1:8095
CATEGORIES:Aggiornamento
CONTACT:Clede Maria Garavini\, cledemaria.garavini@ausl.bologna.it
CREATED;VALUE=DATE-TIME:20111003T080648Z
DESCRIPTION:Laboratori di Formazione
LAST-MODIFIED;VALUE=DATE-TIME:20120110T083033Z
LOCATION:Vergato\, Aula Grande Comunità Montana
URL:https://www.ausl.bologna.it/eventi/archivio/auslevent.2011-10-03.13307
 92903
END:VEVENT
END:VCALENDAR
