BEGIN:VCALENDAR
VERSION:2.0
PRODID:-//Plone.org//NONSGML plone.app.event//EN
X-WR-TIMEZONE:Europe/Rome
BEGIN:VEVENT
SUMMARY:Ascolto delle donne vittime di violenza
DTSTART;VALUE=DATE-TIME:20111104T073000Z
DTEND;VALUE=DATE-TIME:20111104T160000Z
DTSTAMP;VALUE=DATE-TIME:20260420T112119Z
UID:8386a4cfaa57f4f0a88915a834b8c99b@127.0.0.1:8095
CATEGORIES:Aggiornamento
CONTACT:Clede Maria Garavini\, cledemaria.garavini@ausl.bologna.it
CREATED;VALUE=DATE-TIME:20111003T085830Z
DESCRIPTION:Laboratori di Formazione
LAST-MODIFIED;VALUE=DATE-TIME:20120110T083035Z
LOCATION:Rioveggio\, Centro Sportivo
URL:https://www.ausl.bologna.it/eventi/archivio/auslevent.2011-10-03.07631
 36731
END:VEVENT
END:VCALENDAR
