BEGIN:VCALENDAR
VERSION:2.0
PRODID:-//Plone.org//NONSGML plone.app.event//EN
X-WR-TIMEZONE:Europe/Rome
BEGIN:VEVENT
SUMMARY:MEDICINA\, PSICOLOGIA E FISICA QUANTISTICA: LA CRISI DELLE CERTEZZ
 E E L’UMANIZZAZIONE DELLA CURA
DTSTART;VALUE=DATE-TIME:20111119T073000Z
DTEND;VALUE=DATE-TIME:20111120T113000Z
DTSTAMP;VALUE=DATE-TIME:20260420T215125Z
UID:3205d6ec79a735b2fe899a74da7cf503@127.0.0.1:8095
CATEGORIES:Convegno
CONTACT:AIREMP\, info.airemp@gmail.com
CREATED;VALUE=DATE-TIME:20110930T102525Z
DESCRIPTION:Congresso Nazionale  AIREMP
LAST-MODIFIED;VALUE=DATE-TIME:20120110T083028Z
LOCATION:Bologna\, Savoia Hotel Country House
URL:https://www.ausl.bologna.it/eventi/archivio/auslevent.2011-09-30.11503
 25163
END:VEVENT
END:VCALENDAR
