BEGIN:VCALENDAR
VERSION:2.0
PRODID:-//Plone.org//NONSGML plone.app.event//EN
X-WR-TIMEZONE:Europe/Rome
BEGIN:VEVENT
SUMMARY:Con "Datti una mossa" passeggiamo per Santo Stefano
DTSTART;VALUE=DATE-TIME:20111002T080000Z
DTEND;VALUE=DATE-TIME:20111002T100000Z
DTSTAMP;VALUE=DATE-TIME:20260420T215125Z
UID:66816bac720998e4c143086963602ef6@127.0.0.1:8095
CATEGORIES:Camminata e corsa campestre
CREATED;VALUE=DATE-TIME:20110929T122825Z
DESCRIPTION:Tutte le strade portano alla Basilica
LAST-MODIFIED;VALUE=DATE-TIME:20120110T083023Z
LOCATION:Bologna\, Basilica di Santo Stefano
URL:https://www.ausl.bologna.it/eventi/archivio/auslevent.2011-09-29.02859
 79815
END:VEVENT
END:VCALENDAR
