BEGIN:VCALENDAR
VERSION:2.0
PRODID:-//Plone.org//NONSGML plone.app.event//EN
X-WR-TIMEZONE:Europe/Rome
BEGIN:VEVENT
SUMMARY:Non se ne parla. Si canta
DTSTART;VALUE=DATE-TIME:20111002T190000Z
DTEND;VALUE=DATE-TIME:20111002T210000Z
DTSTAMP;VALUE=DATE-TIME:20260420T112716Z
UID:6e71a1f3b7ed9c9299ca6b0afa938be9@127.0.0.1:8095
CATEGORIES:Serata
CREATED;VALUE=DATE-TIME:20110928T104715Z
DESCRIPTION:MUSICA E PAROLE PER LA SALUTE CON I DOCTOR LIFE e l’amichevo
 le partecipazione di Lucio Dalla e Marco Alemanno
LAST-MODIFIED;VALUE=DATE-TIME:20120110T083022Z
LOCATION:Repubblica di San Marino\, Teatro Nuovo Dogana
URL:https://www.ausl.bologna.it/eventi/archivio/auslevent.2011-09-28.72491
 70789
END:VEVENT
END:VCALENDAR
