BEGIN:VCALENDAR
VERSION:2.0
PRODID:-//Plone.org//NONSGML plone.app.event//EN
X-WR-TIMEZONE:Europe/Rome
BEGIN:VEVENT
SUMMARY:La cura della cultura 2011 - LA  MEDICINA TRA ARTE E SCIENZA
DTSTART;VALUE=DATE-TIME:20111019T150000Z
DTEND;VALUE=DATE-TIME:20111019T170000Z
DTSTAMP;VALUE=DATE-TIME:20260420T215026Z
UID:cd8364f24b18bf1b62b9c87efc7a6b8c@127.0.0.1:8095
CREATED;VALUE=DATE-TIME:20110927T093355Z
DESCRIPTION:Conferenza ad ingresso libero
LAST-MODIFIED;VALUE=DATE-TIME:20120110T083016Z
LOCATION:Forlì\, Ospedale Morgagni Pierantoni
URL:https://www.ausl.bologna.it/eventi/archivio/auslevent.2011-09-27.88395
 52076
END:VEVENT
END:VCALENDAR
