BEGIN:VCALENDAR
VERSION:2.0
PRODID:-//Plone.org//NONSGML plone.app.event//EN
X-WR-TIMEZONE:Europe/Rome
BEGIN:VEVENT
SUMMARY:La cura della cultura 2011 -   LA STORIA DELLA MEDICINA: COME IL P
 ASSATO DA' FORMA AL PRESENTE E AL FUTURO
DTSTART;VALUE=DATE-TIME:20111012T150000Z
DTEND;VALUE=DATE-TIME:20111012T170000Z
DTSTAMP;VALUE=DATE-TIME:20260420T201909Z
UID:81025034e9bb4c1db86a614605cbfd96@127.0.0.1:8095
CREATED;VALUE=DATE-TIME:20110927T092759Z
DESCRIPTION:Conferenza ad ingresso libero
LAST-MODIFIED;VALUE=DATE-TIME:20120110T083012Z
LOCATION:Forlì\, Ospedale Morgagni Pierantoni
URL:https://www.ausl.bologna.it/eventi/archivio/auslevent.2011-09-27.26278
 34955
END:VEVENT
END:VCALENDAR
