BEGIN:VCALENDAR
VERSION:2.0
PRODID:-//Plone.org//NONSGML plone.app.event//EN
X-WR-TIMEZONE:Europe/Rome
BEGIN:VEVENT
SUMMARY:La cura della cultura 2011 -   FATTORI COMUNI A COLLOQUIO INTERIOR
 E\, ALTRUISMO\, CONDIZIONI SUBCLINICHE DI MALATTIE MENTALI ALLA LUCE DI EV
 IDENZE BIOLOGICHE E INTUIZIONI DI ARTISTI
DTSTART;VALUE=DATE-TIME:20111026T150000Z
DTEND;VALUE=DATE-TIME:20111026T170000Z
DTSTAMP;VALUE=DATE-TIME:20260420T215135Z
UID:dfe9ddcc1ee3484808d85d290febe66d@127.0.0.1:8095
CREATED;VALUE=DATE-TIME:20110927T093732Z
DESCRIPTION:Conferenza ad ingresso libero
LAST-MODIFIED;VALUE=DATE-TIME:20120110T083017Z
LOCATION:Forlì\, Ospedale Morgagni Pierantoni
URL:https://www.ausl.bologna.it/eventi/archivio/auslevent.2011-09-27.12901
 31357
END:VEVENT
END:VCALENDAR
