BEGIN:VCALENDAR
VERSION:2.0
PRODID:-//Plone.org//NONSGML plone.app.event//EN
X-WR-TIMEZONE:Europe/Rome
BEGIN:VEVENT
SUMMARY:Anziani\, imprenditori di qualità della vita
DTSTART;VALUE=DATE-TIME:20111019T064500Z
DTEND;VALUE=DATE-TIME:20111019T153000Z
DTSTAMP;VALUE=DATE-TIME:20260420T215026Z
UID:3f6c4af9523c201961602d8d422b4fe1@127.0.0.1:8095
CATEGORIES:Convegno
CONTACT:Gerardo Lupi\, gerardo.lupi@ausl.bologna.it
CREATED;VALUE=DATE-TIME:20110927T124542Z
DESCRIPTION:Convegno
LAST-MODIFIED;VALUE=DATE-TIME:20120110T083017Z
LOCATION:Bologna\, Sala dei Cento Fiori
URL:https://www.ausl.bologna.it/eventi/archivio/auslevent.2011-09-27.12237
 15247
END:VEVENT
END:VCALENDAR
