BEGIN:VCALENDAR
VERSION:2.0
PRODID:-//Plone.org//NONSGML plone.app.event//EN
X-WR-TIMEZONE:Europe/Rome
BEGIN:VEVENT
SUMMARY:Sento che ci sei. La speranza è drammatica e costruttiva
DTSTART;VALUE=DATE-TIME:20111005T190000Z
DTEND;VALUE=DATE-TIME:20111005T203000Z
DTSTAMP;VALUE=DATE-TIME:20260420T164713Z
UID:894e95d0ab0f70dc98ed72b185a95df0@127.0.0.1:8095
CATEGORIES:Incontro con l'autore
CREATED;VALUE=DATE-TIME:20110926T115338Z
DESCRIPTION:Incontro di presentazione del libro  di Fulvio De Nigris
LAST-MODIFIED;VALUE=DATE-TIME:20111121T102705Z
LOCATION:Bologna\, Auditorium Camplus Alma Mater
URL:https://www.ausl.bologna.it/eventi/archivio/auslevent.2011-09-26.80637
 66118
END:VEVENT
END:VCALENDAR
