BEGIN:VCALENDAR
VERSION:2.0
PRODID:-//Plone.org//NONSGML plone.app.event//EN
X-WR-TIMEZONE:Europe/Rome
BEGIN:VEVENT
SUMMARY:LA LESIONE CEREBRALE NELLA RETE RELAZIONALE
DTSTART;VALUE=DATE-TIME:20111006T070000Z
DTEND;VALUE=DATE-TIME:20111006T110000Z
DTSTAMP;VALUE=DATE-TIME:20260420T202002Z
UID:d1fb906faebc334f60ecef47ae1f1b74@127.0.0.1:8095
ATTENDEE;CN="Crediti ECM richiesti per le seguenti figure professionali: f
 isiatri, neurologi, psichiatri, medici di medicina generale, medici chirur
 ghi, psicologi, infermieri, educatori professionali, terapisti";ROLE=REQ-P
 ARTICIPANT:Crediti ECM richiesti per le seguenti figure professionali: fis
 iatri, neurologi, psichiatri, medici di medicina generale, medici chirurgh
 i, psicologi, infermieri, educatori professionali, terapisti
ATTENDEE;CN="occupazionali, fisioterapisti, logopedisti, assistenti social
 i";ROLE=REQ-PARTICIPANT:occupazionali, fisioterapisti, logopedisti, assist
 enti sociali
ATTENDEE;CN="(posti limitati)";ROLE=REQ-PARTICIPANT:(posti limitati)
CREATED;VALUE=DATE-TIME:20110926T120810Z
DESCRIPTION:Simposio di Psicologia Clinica
LAST-MODIFIED;VALUE=DATE-TIME:20111121T102706Z
LOCATION:Bologna\, Università degli Studi
URL:https://www.ausl.bologna.it/eventi/archivio/auslevent.2011-09-26.66411
 94726
END:VEVENT
END:VCALENDAR
