BEGIN:VCALENDAR
VERSION:2.0
PRODID:-//Plone.org//NONSGML plone.app.event//EN
X-WR-TIMEZONE:Europe/Rome
BEGIN:VEVENT
SUMMARY:PRENDERE O LASCIARE? LASCIARE!
DTSTART;VALUE=DATE-TIME:20111005T123000Z
DTEND;VALUE=DATE-TIME:20111005T163000Z
DTSTAMP;VALUE=DATE-TIME:20260420T201858Z
UID:95186c0310d0a8716d2f79e06bb9d444@127.0.0.1:8095
CREATED;VALUE=DATE-TIME:20110926T114929Z
DESCRIPTION:I lasciti testamentari\,  una nuova opportunità per le associ
 azioni
LAST-MODIFIED;VALUE=DATE-TIME:20111121T102703Z
LOCATION:Bologna\, Palazzo d'Accursio
URL:https://www.ausl.bologna.it/eventi/archivio/auslevent.2011-09-26.58305
 03335
END:VEVENT
END:VCALENDAR
