BEGIN:VCALENDAR
VERSION:2.0
PRODID:-//Plone.org//NONSGML plone.app.event//EN
X-WR-TIMEZONE:Europe/Rome
BEGIN:VEVENT
SUMMARY:OLTRE IL LIBRO BIANCO SUGLI STATI VEGETATIVI E DI MINIMA COSCIENZA
 : FATTORI DI QUALITÀ CONDIVISI NELL’ACCREDITAMENTO DEI SERVIZI
DTSTART;VALUE=DATE-TIME:20111005T070000Z
DTEND;VALUE=DATE-TIME:20111005T110000Z
DTSTAMP;VALUE=DATE-TIME:20260420T201837Z
UID:4066807b5ba5f576bc189905061064c9@127.0.0.1:8095
CONTACT:maria.vaccari@amicidiluca.it
CREATED;VALUE=DATE-TIME:20110926T114357Z
DESCRIPTION:Focus group aperto ad associazioni\, familiari ed esperti
LAST-MODIFIED;VALUE=DATE-TIME:20111121T102700Z
LOCATION:Bologna\, Palazzo d'Accursio
URL:https://www.ausl.bologna.it/eventi/archivio/auslevent.2011-09-26.30080
 80540
END:VEVENT
END:VCALENDAR
