BEGIN:VCALENDAR
VERSION:2.0
PRODID:-//Plone.org//NONSGML plone.app.event//EN
X-WR-TIMEZONE:Europe/Rome
BEGIN:VEVENT
SUMMARY:C'è anima viva
DTSTART;VALUE=DATE-TIME:20111007T070000Z
DTEND;VALUE=DATE-TIME:20111007T213000Z
DTSTAMP;VALUE=DATE-TIME:20260420T201837Z
UID:9d9734536e076b0e16e5da4a2d9ab9bb@127.0.0.1:8095
CREATED;VALUE=DATE-TIME:20110926T130058Z
DESCRIPTION:Sotto l'Alto Patronato del Presidente della Repubblica: Giorna
 ta Nazionale dei risvegli per la ricerca sul coma - Vale la pena.\n13° ed
 izione
LAST-MODIFIED;VALUE=DATE-TIME:20111121T102707Z
LOCATION:Bologna
URL:https://www.ausl.bologna.it/eventi/archivio/auslevent.2011-09-26.28358
 21633
END:VEVENT
END:VCALENDAR
